BEGIN:VCALENDAR
VERSION:2.0
PRODID:-//Calvary Chapel Gloucester County - ECPv5.16.1.1//NONSGML v1.0//EN
CALSCALE:GREGORIAN
METHOD:PUBLISH
X-WR-CALNAME:Calvary Chapel Gloucester County
X-ORIGINAL-URL:https://www.cc-gc.org
X-WR-CALDESC:Events for Calvary Chapel Gloucester County
BEGIN:VTIMEZONE
TZID:America/New_York
BEGIN:DAYLIGHT
TZOFFSETFROM:-0500
TZOFFSETTO:-0400
TZNAME:EDT
DTSTART:20260308T070000
END:DAYLIGHT
BEGIN:STANDARD
TZOFFSETFROM:-0400
TZOFFSETTO:-0500
TZNAME:EST
DTSTART:20261101T060000
END:STANDARD
END:VTIMEZONE
BEGIN:VEVENT
DTSTART;TZID=America/New_York:20260516T090000
DTEND;TZID=America/New_York:20260516T110000
DTSTAMP:20260425T152938
CREATED:20260407T190445Z
LAST-MODIFIED:20260407T190508Z
UID:25680-1778922000-1778929200@www.cc-gc.org
SUMMARY:Active Shooter Response Training
DESCRIPTION:Active Shooter Response Training: 9am to about 11am in the Sanctuary \nWe are holding a training for anyone interested in attending. This training is open to everyone. It covers strategies of what to do during an active shooter or an active response situation. We encourage everyone to attend and have the knowledge that is shared during the training. We are asking if you plan to conceal and carry at the church and for us to recognize you as one that you must attend this training.
URL:https://www.cc-gc.org/event/active-shooter-response-training/
LOCATION:Calvary Chapel Gloucester County\, 5360 Rt. 42N \, Turnersville \, NJ\, 08012\, United States
END:VEVENT
END:VCALENDAR