BEGIN:VCALENDAR
VERSION:2.0
PRODID:-//Calvary Chapel Gloucester County - ECPv5.16.1.1//NONSGML v1.0//EN
CALSCALE:GREGORIAN
METHOD:PUBLISH
X-WR-CALNAME:Calvary Chapel Gloucester County
X-ORIGINAL-URL:https://www.cc-gc.org
X-WR-CALDESC:Events for Calvary Chapel Gloucester County
BEGIN:VTIMEZONE
TZID:America/New_York
BEGIN:DAYLIGHT
TZOFFSETFROM:-0500
TZOFFSETTO:-0400
TZNAME:EDT
DTSTART:20260308T070000
END:DAYLIGHT
BEGIN:STANDARD
TZOFFSETFROM:-0400
TZOFFSETTO:-0500
TZNAME:EST
DTSTART:20261101T060000
END:STANDARD
END:VTIMEZONE
BEGIN:VEVENT
DTSTART;TZID=America/New_York:20260327T190000
DTEND;TZID=America/New_York:20260327T210000
DTSTAMP:20260423T072608
CREATED:20260102T202530Z
LAST-MODIFIED:20260102T202530Z
UID:24896-1774638000-1774645200@www.cc-gc.org
SUMMARY:Cultivate Young Adults
DESCRIPTION:Our Young Adults Ministry\, Cultivate\, meets on the second and fourth Fridays of the month. \nTonight\, they meet at 7pm in Suite 14. \nAs always bring your Bible\, a friend\, and your snack to share.
URL:https://www.cc-gc.org/event/cultivate-young-adults-24/
LOCATION:Calvary Chapel Gloucester County\, 5360 Rt. 42N \, Turnersville \, NJ\, 08012\, United States
CATEGORIES:Fellowship,Young Adult Ministry
END:VEVENT
END:VCALENDAR