BEGIN:VCALENDAR
VERSION:2.0
PRODID:-//Calvary Chapel Gloucester County - ECPv5.16.1.1//NONSGML v1.0//EN
CALSCALE:GREGORIAN
METHOD:PUBLISH
X-WR-CALNAME:Calvary Chapel Gloucester County
X-ORIGINAL-URL:https://www.cc-gc.org
X-WR-CALDESC:Events for Calvary Chapel Gloucester County
BEGIN:VTIMEZONE
TZID:America/New_York
BEGIN:DAYLIGHT
TZOFFSETFROM:-0500
TZOFFSETTO:-0400
TZNAME:EDT
DTSTART:20260308T070000
END:DAYLIGHT
BEGIN:STANDARD
TZOFFSETFROM:-0400
TZOFFSETTO:-0500
TZNAME:EST
DTSTART:20261101T060000
END:STANDARD
END:VTIMEZONE
BEGIN:VEVENT
DTSTART;TZID=America/New_York:20260504T190000
DTEND;TZID=America/New_York:20260504T203000
DTSTAMP:20260422T050350
CREATED:20260217T174336Z
LAST-MODIFIED:20260217T174336Z
UID:25160-1777921200-1777926600@www.cc-gc.org
SUMMARY:Divorce Care- Eleventh Session
DESCRIPTION:Divorce Care is a safe place where caring people come alongside you as you find healing from the pain of separation or divorce. At this 13 week\, video-based support group program\, you’ll find helpful counsel to manage the emotional turmoil and practical tools for decision-making. \nThis ministry meets in 13-week sessions throughout the year on Mondays at 7pm in a classroom located at Suite 14 of the Calvary Plaza at Calvary Chapel Gloucester County. \nThis current session will meet from February 23rd to May 18th.
URL:https://www.cc-gc.org/event/divorce-care-eleventh-session-3/
LOCATION:Calvary Chapel Gloucester County\, 5360 Rt. 42N \, Turnersville \, NJ\, 08012\, United States
CATEGORIES:Care Ministries
END:VEVENT
END:VCALENDAR