BEGIN:VCALENDAR
VERSION:2.0
PRODID:-//Calvary Chapel Gloucester County - ECPv5.16.1.1//NONSGML v1.0//EN
CALSCALE:GREGORIAN
METHOD:PUBLISH
X-WR-CALNAME:Calvary Chapel Gloucester County
X-ORIGINAL-URL:https://www.cc-gc.org
X-WR-CALDESC:Events for Calvary Chapel Gloucester County
BEGIN:VTIMEZONE
TZID:America/New_York
BEGIN:DAYLIGHT
TZOFFSETFROM:-0500
TZOFFSETTO:-0400
TZNAME:EDT
DTSTART:20260308T070000
END:DAYLIGHT
BEGIN:STANDARD
TZOFFSETFROM:-0400
TZOFFSETTO:-0500
TZNAME:EST
DTSTART:20261101T060000
END:STANDARD
END:VTIMEZONE
BEGIN:VEVENT
DTSTART;TZID=America/New_York:20260416T190000
DTEND;TZID=America/New_York:20260416T203000
DTSTAMP:20260422T044633
CREATED:20260217T174737Z
LAST-MODIFIED:20260217T174737Z
UID:25170-1776366000-1776371400@www.cc-gc.org
SUMMARY:Grief Share- Sixth Session
DESCRIPTION:Grief Share is a support group intended to help you deal with the pain of loss in a healthy way. It may be hard for you to feel optimistic about the future right now. If you’ve lost a spouse\, child\, family member\, or friend\, you’ve probably found there are not many people who understand the deep hurt you feel. Because those attending also understand what you’re going through\, it will be an uplifting experience that takes you on the path of true healing. \nThis ministry meets in 13-week sessions throughout the year on Thursdays at 7pm in Suite 14. \nThe upcoming session meets weekly from March 12th to June 4th. \n  \nPlease sign-up below if you plan on attending the sessions. \n\n\n\n\nGriefShare\n\n\n\n\n\n\n\n\n    First & Last Name:\n        *\n    \n    \n    \n    \n\n\n    Email:\n        \n    \n    \n    \n    \n\n\n    Primary Phone Number:\n        *\n    \n    \n    \n    \n\n\n    Please tell us who you lost and when(date): \n        \n    \n    \n    \n    \n\n	\n				\n				\n					If you are human\, leave this field blank.				\n				\n			\n		\n\nSubmit
URL:https://www.cc-gc.org/event/grief-share-sixth-session-3/
LOCATION:Calvary Chapel Gloucester County\, 5360 Rt. 42N \, Turnersville \, NJ\, 08012\, United States
CATEGORIES:Care Ministries
END:VEVENT
END:VCALENDAR