BEGIN:VCALENDAR
VERSION:2.0
PRODID:-//Calvary Chapel Gloucester County - ECPv5.16.1.1//NONSGML v1.0//EN
CALSCALE:GREGORIAN
METHOD:PUBLISH
X-WR-CALNAME:Calvary Chapel Gloucester County
X-ORIGINAL-URL:https://www.cc-gc.org
X-WR-CALDESC:Events for Calvary Chapel Gloucester County
BEGIN:VTIMEZONE
TZID:America/New_York
BEGIN:DAYLIGHT
TZOFFSETFROM:-0500
TZOFFSETTO:-0400
TZNAME:EDT
DTSTART:20250309T070000
END:DAYLIGHT
BEGIN:STANDARD
TZOFFSETFROM:-0400
TZOFFSETTO:-0500
TZNAME:EST
DTSTART:20251102T060000
END:STANDARD
END:VTIMEZONE
BEGIN:VEVENT
DTSTART;TZID=America/New_York:20250413T080000
DTEND;TZID=America/New_York:20250413T130000
DTSTAMP:20260422T142012
CREATED:20250321T173138Z
LAST-MODIFIED:20250321T173138Z
UID:23135-1744531200-1744549200@www.cc-gc.org
SUMMARY:Guest Speaker- Dr.Nick DeMario
DESCRIPTION:Sunday\, April 13th\nPalm Sunday Service at Calvary Chapel\nJoin us as we have our guest speaker\, Dr. Nicholas DeMario with us.\nHe will be sharing on the medical analysis of the Crucifixion of Christ. \nOur service times are 8am\, 9:30am\, and 11:15am in the Sanctuary  \nNursery will be available during the 9:30am and 11:15am services.\nCalvary Kids(pre-k to 5th grade) will be meeting during the 9:30am service. \nLive-streaming option will be available during the 9:30am service.
URL:https://www.cc-gc.org/event/guest-speaker-dr-nick-demario/
LOCATION:Calvary Chapel Gloucester County\, 5360 Rt. 42N \, Turnersville \, NJ\, 08012\, United States
CATEGORIES:Church-Wide
END:VEVENT
END:VCALENDAR