BEGIN:VCALENDAR
VERSION:2.0
PRODID:-//Calvary Chapel Gloucester County - ECPv5.16.1.1//NONSGML v1.0//EN
CALSCALE:GREGORIAN
METHOD:PUBLISH
X-WR-CALNAME:Calvary Chapel Gloucester County
X-ORIGINAL-URL:https://www.cc-gc.org
X-WR-CALDESC:Events for Calvary Chapel Gloucester County
BEGIN:VTIMEZONE
TZID:America/New_York
BEGIN:DAYLIGHT
TZOFFSETFROM:-0500
TZOFFSETTO:-0400
TZNAME:EDT
DTSTART:20250309T070000
END:DAYLIGHT
BEGIN:STANDARD
TZOFFSETFROM:-0400
TZOFFSETTO:-0500
TZNAME:EST
DTSTART:20251102T060000
END:STANDARD
END:VTIMEZONE
BEGIN:VEVENT
DTSTART;TZID=America/New_York:20250416T110000
DTEND;TZID=America/New_York:20250416T130000
DTSTAMP:20260422T234832
CREATED:20250324T193403Z
LAST-MODIFIED:20250324T193403Z
UID:23193-1744801200-1744808400@www.cc-gc.org
SUMMARY:PEP
DESCRIPTION:People Enjoying People (PEP) is the Calvary Chapel Seniors Ministry. This ministry is geared for adults 55 and over and provides and opportunity for fellowship. \nPEP meets the first and third Wednesday every month at 11:00 am in the Fellowship Hall\, September through May.
URL:https://www.cc-gc.org/event/pep-2/
LOCATION:Calvary Chapel Gloucester County\, 5360 Rt. 42N \, Turnersville \, NJ\, 08012\, United States
CATEGORIES:Fellowship,PEP
END:VEVENT
END:VCALENDAR