BEGIN:VCALENDAR
VERSION:2.0
PRODID:-//Calvary Chapel Gloucester County - ECPv5.16.1.1//NONSGML v1.0//EN
CALSCALE:GREGORIAN
METHOD:PUBLISH
X-WR-CALNAME:Calvary Chapel Gloucester County
X-ORIGINAL-URL:https://www.cc-gc.org
X-WR-CALDESC:Events for Calvary Chapel Gloucester County
BEGIN:VTIMEZONE
TZID:America/New_York
BEGIN:DAYLIGHT
TZOFFSETFROM:-0500
TZOFFSETTO:-0400
TZNAME:EDT
DTSTART:20250309T070000
END:DAYLIGHT
BEGIN:STANDARD
TZOFFSETFROM:-0400
TZOFFSETTO:-0500
TZNAME:EST
DTSTART:20251102T060000
END:STANDARD
END:VTIMEZONE
BEGIN:VEVENT
DTSTART;TZID=America/New_York:20251206T140000
DTEND;TZID=America/New_York:20251206T190000
DTSTAMP:20260423T013237
CREATED:20250929T193112Z
LAST-MODIFIED:20250929T193112Z
UID:24268-1765029600-1765047600@www.cc-gc.org
SUMMARY:Revive In-House Outreach
DESCRIPTION:Saturday\, December 6th: In-House Outreach\nLocation: Calvary Chapel Suite 14 (enter at the rear of the building-unit 14)\nTime: 2:00-7PM (2pm-5pm- food sorting and organizing\, 5-7pm food bank hours)\nEvent Description: Share the love of Christ by providing food to families in need.\nWhat we are doing: Unload\, separate and distribute donations\, and assemble food boxes. Hand out to those families who can pick up or deliver to those who cannot. Volunteers are welcome to come when they can and stay as along as they are able to.\n\nIf you have any questions\, please email revive@cc-gc.org.
URL:https://www.cc-gc.org/event/revive-in-house-outreach-25/
LOCATION:Calvary Chapel Gloucester County\, 5360 Rt. 42N \, Turnersville \, NJ\, 08012\, United States
CATEGORIES:Community
END:VEVENT
END:VCALENDAR