BEGIN:VCALENDAR
VERSION:2.0
PRODID:-//Calvary Chapel Gloucester County - ECPv5.16.1.1//NONSGML v1.0//EN
CALSCALE:GREGORIAN
METHOD:PUBLISH
X-WR-CALNAME:Calvary Chapel Gloucester County
X-ORIGINAL-URL:https://www.cc-gc.org
X-WR-CALDESC:Events for Calvary Chapel Gloucester County
BEGIN:VTIMEZONE
TZID:America/New_York
BEGIN:DAYLIGHT
TZOFFSETFROM:-0500
TZOFFSETTO:-0400
TZNAME:EDT
DTSTART:20260308T070000
END:DAYLIGHT
BEGIN:STANDARD
TZOFFSETFROM:-0400
TZOFFSETTO:-0500
TZNAME:EST
DTSTART:20261101T060000
END:STANDARD
END:VTIMEZONE
BEGIN:VEVENT
DTSTART;TZID=America/New_York:20260321T100000
DTEND;TZID=America/New_York:20260321T130000
DTSTAMP:20260422T050402
CREATED:20260224T204038Z
LAST-MODIFIED:20260224T204038Z
UID:25490-1774087200-1774098000@www.cc-gc.org
SUMMARY:Worship Ministry Open Auditions
DESCRIPTION:Calvary Chapel Worship Ministry Open Auditions\nSaturday\, March 21st from 10am-1pm \nWe’re looking for gifted singers and musicians who feel spiritually called to lead others in worship. Musical skill is very important and we are praying for people who have a true God-given gifting for worship. \nPlease come prepared to share: 2 songs you can sing or play – A bit of your story- your testimony\, your musical experiences\, and how God has been shaping your heart for worship.\n*Please bring your instrument with you. We do have a keyboard available so you do not have to bring one of those! \nPlease click here to sign-up for a 20 minute time slot. 
URL:https://www.cc-gc.org/event/worship-ministry-open-auditions/
LOCATION:Calvary Chapel Gloucester County\, 5360 Rt. 42N \, Turnersville \, NJ\, 08012\, United States
END:VEVENT
END:VCALENDAR